Package: xcore Version: 1.15.0 Command: /home/biocbuild/bbs-3.23-bioc/R/bin/R CMD check --install=check:xcore.install-out.txt --library=/home/biocbuild/bbs-3.23-bioc/R/site-library --timings xcore_1.15.0.tar.gz StartedAt: 2025-11-15 05:24:28 -0500 (Sat, 15 Nov 2025) EndedAt: 2025-11-15 05:32:58 -0500 (Sat, 15 Nov 2025) EllapsedTime: 509.8 seconds RetCode: 0 Status: OK CheckDir: xcore.Rcheck Warnings: 0