Package: xcore Version: 1.15.0 Command: /home/biocbuild/bbs-3.23-bioc/R/bin/R CMD build --keep-empty-dirs --no-resave-data xcore StartedAt: 2025-11-04 20:40:17 -0500 (Tue, 04 Nov 2025) EndedAt: 2025-11-04 20:41:43 -0500 (Tue, 04 Nov 2025) EllapsedTime: 86.1 seconds RetCode: 0 Status: OK PackageFile: xcore_1.15.0.tar.gz PackageFileSize: 2.408 MiB