Package: xcms Version: 4.9.0 Command: /home/biocbuild/bbs-3.23-bioc/R/bin/R CMD check --install=check:xcms.install-out.txt --library=/home/biocbuild/bbs-3.23-bioc/R/site-library --timings xcms_4.9.0.tar.gz StartedAt: 2025-11-05 05:04:50 -0500 (Wed, 05 Nov 2025) EndedAt: 2025-11-05 05:31:38 -0500 (Wed, 05 Nov 2025) EllapsedTime: 1608.7 seconds RetCode: 0 Status: OK CheckDir: xcms.Rcheck Warnings: 0