Package: xcms Version: 4.9.0 Command: /Library/Frameworks/R.framework/Resources/bin/R CMD check --install=check:xcms.install-out.txt --library=/Library/Frameworks/R.framework/Resources/library --no-vignettes --timings xcms_4.9.0.tar.gz StartedAt: 2025-11-24 01:03:37 -0500 (Mon, 24 Nov 2025) EndedAt: 2025-11-24 01:22:28 -0500 (Mon, 24 Nov 2025) EllapsedTime: 1131.5 seconds RetCode: 0 Status: OK CheckDir: xcms.Rcheck Warnings: 0