Package: xcms Version: 4.7.3 Command: /Library/Frameworks/R.framework/Resources/bin/R CMD check --install=check:xcms.install-out.txt --library=/Library/Frameworks/R.framework/Resources/library --no-vignettes --timings xcms_4.7.3.tar.gz StartedAt: 2025-10-15 22:27:54 -0400 (Wed, 15 Oct 2025) EndedAt: 2025-10-15 22:36:15 -0400 (Wed, 15 Oct 2025) EllapsedTime: 500.4 seconds RetCode: 0 Status: OK CheckDir: xcms.Rcheck Warnings: 0