Package: xCell2 Version: 1.1.0 Command: /home/biocbuild/R/R/bin/R CMD build --keep-empty-dirs --no-resave-data xCell2 StartedAt: 2025-10-14 04:33:11 -0000 (Tue, 14 Oct 2025) EndedAt: 2025-10-14 04:36:47 -0000 (Tue, 14 Oct 2025) EllapsedTime: 216.1 seconds RetCode: 0 Status: OK PackageFile: xCell2_1.1.0.tar.gz PackageFileSize: 2.932 MiB