Package: xCell2 Version: 1.1.0 Command: F:\biocbuild\bbs-3.22-bioc\R\bin\R.exe CMD INSTALL xCell2 StartedAt: 2025-08-14 16:12:41 -0400 (Thu, 14 Aug 2025) EndedAt: 2025-08-14 16:13:35 -0400 (Thu, 14 Aug 2025) EllapsedTime: 53.8 seconds RetCode: 0 Status: OK