Package: xCell2 Version: 1.1.0 Command: rm -rf xCell2.buildbin-libdir && mkdir xCell2.buildbin-libdir && F:\biocbuild\bbs-3.22-bioc\R\bin\R.exe CMD INSTALL --build --library=xCell2.buildbin-libdir xCell2_1.1.0.tar.gz StartedAt: 2025-08-15 11:36:02 -0400 (Fri, 15 Aug 2025) EndedAt: 2025-08-15 11:36:49 -0400 (Fri, 15 Aug 2025) EllapsedTime: 47.3 seconds RetCode: 0 Status: OK PackageFile: xCell2_1.1.0.zip PackageFileSize: 2.947 MiB