Package: xCell2 Version: 1.1.0 Command: /home/biocbuild/bbs-3.22-bioc/R/bin/R CMD check --install=check:xCell2.install-out.txt --library=/home/biocbuild/bbs-3.22-bioc/R/site-library --timings xCell2_1.1.0.tar.gz StartedAt: 2025-10-11 05:44:18 -0400 (Sat, 11 Oct 2025) EndedAt: 2025-10-11 05:53:55 -0400 (Sat, 11 Oct 2025) EllapsedTime: 576.5 seconds RetCode: 0 Status: OK CheckDir: xCell2.Rcheck Warnings: 0