Package: xCell2 Version: 1.3.0 Command: /home/biocbuild/bbs-3.23-bioc/R/bin/R CMD check --install=check:xCell2.install-out.txt --library=/home/biocbuild/bbs-3.23-bioc/R/site-library --timings xCell2_1.3.0.tar.gz StartedAt: 2025-11-18 06:22:06 -0500 (Tue, 18 Nov 2025) EndedAt: 2025-11-18 06:31:19 -0500 (Tue, 18 Nov 2025) EllapsedTime: 552.5 seconds RetCode: 0 Status: OK CheckDir: xCell2.Rcheck Warnings: 0