Package: xCell2 Version: 1.3.0 Command: /home/biocbuild/bbs-3.23-bioc/R/bin/R CMD build --keep-empty-dirs --no-resave-data xCell2 StartedAt: 2025-11-04 20:40:01 -0500 (Tue, 04 Nov 2025) EndedAt: 2025-11-04 20:42:30 -0500 (Tue, 04 Nov 2025) EllapsedTime: 149.4 seconds RetCode: 0 Status: OK PackageFile: xCell2_1.3.0.tar.gz PackageFileSize: 3.106 MiB