Package: wppi Version: 1.19.0 Command: /home/biocbuild/bbs-3.23-bioc/R/bin/R CMD INSTALL wppi StartedAt: 2025-11-20 15:08:38 -0500 (Thu, 20 Nov 2025) EndedAt: 2025-11-20 15:08:58 -0500 (Thu, 20 Nov 2025) EllapsedTime: 20.6 seconds RetCode: 0 Status: OK