Package: wppi Version: 1.19.0 Command: /home/biocbuild/bbs-3.23-bioc/R/bin/R CMD build --keep-empty-dirs --no-resave-data wppi StartedAt: 2025-11-20 20:47:05 -0500 (Thu, 20 Nov 2025) EndedAt: 2025-11-20 20:49:18 -0500 (Thu, 20 Nov 2025) EllapsedTime: 133.1 seconds RetCode: 0 Status: OK PackageFile: wppi_1.19.0.tar.gz PackageFileSize: 647 KiB