Package: wppi Version: 1.17.0 Command: /Library/Frameworks/R.framework/Resources/bin/R CMD INSTALL wppi StartedAt: 2025-10-14 15:11:55 -0400 (Tue, 14 Oct 2025) EndedAt: 2025-10-14 15:12:21 -0400 (Tue, 14 Oct 2025) EllapsedTime: 26.2 seconds RetCode: 0 Status: OK