Package: wppi Version: 1.17.0 Command: /Library/Frameworks/R.framework/Resources/bin/R CMD build --keep-empty-dirs --no-resave-data wppi StartedAt: 2025-10-14 19:49:30 -0400 (Tue, 14 Oct 2025) EndedAt: 2025-10-14 19:52:31 -0400 (Tue, 14 Oct 2025) EllapsedTime: 180.5 seconds RetCode: 0 Status: OK PackageFile: wppi_1.17.0.tar.gz PackageFileSize: 646.9 KiB