Package: wppi Version: 1.17.0 Command: /Library/Frameworks/R.framework/Resources/bin/R CMD build --keep-empty-dirs --no-resave-data wppi StartedAt: 2025-09-30 18:08:28 -0400 (Tue, 30 Sep 2025) EndedAt: 2025-09-30 18:09:35 -0400 (Tue, 30 Sep 2025) EllapsedTime: 67.9 seconds RetCode: 0 Status: OK PackageFile: wppi_1.17.0.tar.gz PackageFileSize: 647.2 KiB