Package: wppi Version: 1.18.0 Maintainer: Ana Galhoz MaintainerEmail: ana.galhoz at helmholtz-muenchen.de git_url: https://git.bioconductor.org/packages/wppi git_branch: RELEASE_3_22 git_last_commit: c2e3b83 git_last_commit_date: 2025-10-29 11:08:00 -0400 (Wed, 29 Oct 2025)