Package: wpm Version: 1.19.0 Command: /home/biocbuild/R/R/bin/R CMD INSTALL wpm StartedAt: 2025-10-23 20:38:32 -0000 (Thu, 23 Oct 2025) EndedAt: 2025-10-23 20:38:37 -0000 (Thu, 23 Oct 2025) EllapsedTime: 5.0 seconds RetCode: 0 Status: OK