Package: wpm Version: 1.19.0 Command: /home/biocbuild/R/R/bin/R CMD build --keep-empty-dirs --no-resave-data wpm StartedAt: 2025-10-21 04:05:42 -0000 (Tue, 21 Oct 2025) EndedAt: 2025-10-21 04:06:10 -0000 (Tue, 21 Oct 2025) EllapsedTime: 28.0 seconds RetCode: 0 Status: OK PackageFile: wpm_1.19.0.tar.gz PackageFileSize: 2.397 MiB