Package: wpm Version: 1.19.0 Command: /home/biocbuild/bbs-3.22-bioc/R/bin/R CMD check --install=check:wpm.install-out.txt --library=/home/biocbuild/bbs-3.22-bioc/R/site-library --timings wpm_1.19.0.tar.gz StartedAt: 2025-10-22 06:16:51 -0400 (Wed, 22 Oct 2025) EndedAt: 2025-10-22 06:18:09 -0400 (Wed, 22 Oct 2025) EllapsedTime: 78.1 seconds RetCode: 0 Status: OK CheckDir: wpm.Rcheck Warnings: 0