Package: wpm Version: 1.19.0 Command: /Library/Frameworks/R.framework/Resources/bin/R CMD INSTALL wpm StartedAt: 2025-10-05 15:20:32 -0400 (Sun, 05 Oct 2025) EndedAt: 2025-10-05 15:20:39 -0400 (Sun, 05 Oct 2025) EllapsedTime: 6.8 seconds RetCode: 0 Status: OK