Package: wpm Version: 1.19.0 Maintainer: Helene Borges MaintainerEmail: borges.helene.sophie at gmail.com git_url: https://git.bioconductor.org/packages/wpm git_branch: devel git_last_commit: f8ef076 git_last_commit_date: 2025-04-15 12:04:43 -0400 (Tue, 15 Apr 2025)