Package: wiggleplotr Version: 1.33.2 Command: /home/biocbuild/R/R/bin/R CMD check --install=check:wiggleplotr.install-out.txt --library=/home/biocbuild/R/R/site-library --no-vignettes --timings wiggleplotr_1.33.2.tar.gz StartedAt: 2025-10-17 14:56:34 -0000 (Fri, 17 Oct 2025) EndedAt: 2025-10-17 14:58:10 -0000 (Fri, 17 Oct 2025) EllapsedTime: 96.1 seconds RetCode: 0 Status: OK CheckDir: wiggleplotr.Rcheck Warnings: 0