Package: wiggleplotr Version: 1.35.0 Command: /home/biocbuild/bbs-3.23-bioc/R/bin/R CMD INSTALL wiggleplotr StartedAt: 2025-11-03 15:26:17 -0500 (Mon, 03 Nov 2025) EndedAt: 2025-11-03 15:26:22 -0500 (Mon, 03 Nov 2025) EllapsedTime: 4.8 seconds RetCode: 0 Status: OK