Package: wiggleplotr Version: 1.35.0 Command: /home/biocbuild/bbs-3.23-bioc/R/bin/R CMD check --install=check:wiggleplotr.install-out.txt --library=/home/biocbuild/bbs-3.23-bioc/R/site-library --timings wiggleplotr_1.35.0.tar.gz StartedAt: 2025-11-05 05:04:06 -0500 (Wed, 05 Nov 2025) EndedAt: 2025-11-05 05:05:58 -0500 (Wed, 05 Nov 2025) EllapsedTime: 112.1 seconds RetCode: 0 Status: OK CheckDir: wiggleplotr.Rcheck Warnings: 0