Package: wiggleplotr Version: 1.35.0 Command: /home/biocbuild/bbs-3.23-bioc/R/bin/R CMD build --keep-empty-dirs --no-resave-data wiggleplotr StartedAt: 2025-11-03 20:36:14 -0500 (Mon, 03 Nov 2025) EndedAt: 2025-11-03 20:36:49 -0500 (Mon, 03 Nov 2025) EllapsedTime: 35.0 seconds RetCode: 0 Status: OK PackageFile: wiggleplotr_1.35.0.tar.gz PackageFileSize: 334.1 KiB