Package: wiggleplotr Version: 1.33.2 Command: /Library/Frameworks/R.framework/Resources/bin/R CMD check --install=check:wiggleplotr.install-out.txt --library=/Library/Frameworks/R.framework/Resources/library --no-vignettes --timings wiggleplotr_1.33.2.tar.gz StartedAt: 2025-10-14 02:10:13 -0400 (Tue, 14 Oct 2025) EndedAt: 2025-10-14 02:11:57 -0400 (Tue, 14 Oct 2025) EllapsedTime: 103.3 seconds RetCode: 0 Status: OK CheckDir: wiggleplotr.Rcheck Warnings: 0