Package: widgetTools Version: 1.89.0 Command: /home/biocbuild/bbs-3.23-bioc/R/bin/R CMD INSTALL widgetTools StartedAt: 2025-11-26 15:04:56 -0500 (Wed, 26 Nov 2025) EndedAt: 2025-11-26 15:05:23 -0500 (Wed, 26 Nov 2025) EllapsedTime: 26.5 seconds RetCode: 0 Status: OK