Package: widgetTools Version: 1.89.0 Command: /home/biocbuild/bbs-3.23-bioc/R/bin/R CMD check --install=check:widgetTools.install-out.txt --library=/home/biocbuild/bbs-3.23-bioc/R/site-library --timings widgetTools_1.89.0.tar.gz StartedAt: 2025-11-26 05:20:55 -0500 (Wed, 26 Nov 2025) EndedAt: 2025-11-26 05:21:19 -0500 (Wed, 26 Nov 2025) EllapsedTime: 23.0 seconds RetCode: 0 Status: OK CheckDir: widgetTools.Rcheck Warnings: 0