Package: widgetTools Version: 1.89.0 Command: /home/biocbuild/bbs-3.23-bioc/R/bin/R CMD build --keep-empty-dirs --no-resave-data widgetTools StartedAt: 2025-11-26 20:44:04 -0500 (Wed, 26 Nov 2025) EndedAt: 2025-11-26 20:44:11 -0500 (Wed, 26 Nov 2025) EllapsedTime: 7.0 seconds RetCode: 0 Status: OK PackageFile: widgetTools_1.89.0.tar.gz PackageFileSize: 227.8 KiB