Package: widgetTools Version: 1.87.0 Command: /Library/Frameworks/R.framework/Resources/bin/R CMD check --install=check:widgetTools.install-out.txt --library=/Library/Frameworks/R.framework/Resources/library --no-vignettes --timings widgetTools_1.87.0.tar.gz StartedAt: 2025-10-16 22:42:19 -0400 (Thu, 16 Oct 2025) EndedAt: 2025-10-16 22:42:34 -0400 (Thu, 16 Oct 2025) EllapsedTime: 15.2 seconds RetCode: 0 Status: OK CheckDir: widgetTools.Rcheck Warnings: 0