Package: weitrix Version: 1.21.0 Command: /home/biocbuild/R/R/bin/R CMD INSTALL weitrix StartedAt: 2025-10-09 22:02:59 -0000 (Thu, 09 Oct 2025) EndedAt: 2025-10-09 22:03:36 -0000 (Thu, 09 Oct 2025) EllapsedTime: 37.1 seconds RetCode: 0 Status: OK