Package: weitrix Version: 1.21.0 Command: /home/biocbuild/R/R/bin/R CMD build --keep-empty-dirs --no-resave-data weitrix StartedAt: 2025-10-10 05:05:47 -0000 (Fri, 10 Oct 2025) EndedAt: 2025-10-10 05:20:16 -0000 (Fri, 10 Oct 2025) EllapsedTime: 869.8 seconds RetCode: 0 Status: OK PackageFile: weitrix_1.21.0.tar.gz PackageFileSize: 5.84 MiB