Package: weitrix Version: 1.21.0 Command: rm -rf weitrix.buildbin-libdir && mkdir weitrix.buildbin-libdir && F:\biocbuild\bbs-3.22-bioc\R\bin\R.exe CMD INSTALL --build --library=weitrix.buildbin-libdir weitrix_1.21.0.tar.gz StartedAt: 2025-08-15 11:35:40 -0400 (Fri, 15 Aug 2025) EndedAt: 2025-08-15 11:36:21 -0400 (Fri, 15 Aug 2025) EllapsedTime: 41.8 seconds RetCode: 0 Status: OK PackageFile: weitrix_1.21.0.zip PackageFileSize: 5.6 MiB