Package: weitrix Version: 1.21.0 Command: /home/biocbuild/bbs-3.22-bioc/R/bin/R CMD check --install=check:weitrix.install-out.txt --library=/home/biocbuild/bbs-3.22-bioc/R/site-library --timings weitrix_1.21.0.tar.gz StartedAt: 2025-09-30 05:47:33 -0400 (Tue, 30 Sep 2025) EndedAt: 2025-09-30 06:01:58 -0400 (Tue, 30 Sep 2025) EllapsedTime: 864.5 seconds RetCode: 0 Status: OK CheckDir: weitrix.Rcheck Warnings: 0