Package: weitrix Version: 1.23.0 Command: /home/biocbuild/bbs-3.23-bioc/R/bin/R CMD check --install=check:weitrix.install-out.txt --library=/home/biocbuild/bbs-3.23-bioc/R/site-library --timings weitrix_1.23.0.tar.gz StartedAt: 2025-11-07 04:58:36 -0500 (Fri, 07 Nov 2025) EndedAt: 2025-11-07 05:12:22 -0500 (Fri, 07 Nov 2025) EllapsedTime: 826.9 seconds RetCode: 0 Status: OK CheckDir: weitrix.Rcheck Warnings: 0