Package: weitrix Version: 1.23.0 Command: /home/biocbuild/bbs-3.23-bioc/R/bin/R CMD build --keep-empty-dirs --no-resave-data weitrix StartedAt: 2025-11-05 20:46:09 -0500 (Wed, 05 Nov 2025) EndedAt: 2025-11-05 20:54:40 -0500 (Wed, 05 Nov 2025) EllapsedTime: 510.9 seconds RetCode: 0 Status: OK PackageFile: weitrix_1.23.0.tar.gz PackageFileSize: 9.485 MiB