Package: webbioc Version: 1.81.0 Command: /home/biocbuild/R/R/bin/R CMD check --install=check:webbioc.install-out.txt --library=/home/biocbuild/R/R/site-library --no-vignettes --timings webbioc_1.81.0.tar.gz StartedAt: 2025-10-17 14:56:26 -0000 (Fri, 17 Oct 2025) EndedAt: 2025-10-17 14:58:27 -0000 (Fri, 17 Oct 2025) EllapsedTime: 121.1 seconds RetCode: 0 Status: OK CheckDir: webbioc.Rcheck Warnings: 0