Package: webbioc Version: 1.83.0 Command: /home/biocbuild/bbs-3.23-bioc/R/bin/R CMD INSTALL webbioc StartedAt: 2025-11-06 15:44:26 -0500 (Thu, 06 Nov 2025) EndedAt: 2025-11-06 15:44:48 -0500 (Thu, 06 Nov 2025) EllapsedTime: 21.3 seconds RetCode: 0 Status: OK