Package: webbioc Version: 1.81.0 Command: /Library/Frameworks/R.framework/Resources/bin/R CMD check --install=check:webbioc.install-out.txt --library=/Library/Frameworks/R.framework/Resources/library --no-vignettes --timings webbioc_1.81.0.tar.gz StartedAt: 2025-10-07 01:37:21 -0400 (Tue, 07 Oct 2025) EndedAt: 2025-10-07 01:39:12 -0400 (Tue, 07 Oct 2025) EllapsedTime: 110.4 seconds RetCode: 0 Status: OK CheckDir: webbioc.Rcheck Warnings: 0