Package: weaver Version: 1.75.0 Command: /home/biocbuild/R/R/bin/R CMD INSTALL weaver StartedAt: 2025-10-02 20:23:49 -0000 (Thu, 02 Oct 2025) EndedAt: 2025-10-02 20:25:03 -0000 (Thu, 02 Oct 2025) EllapsedTime: 74.6 seconds RetCode: 0 Status: OK