Package: weaver Version: 1.75.0 Command: /home/biocbuild/R/R/bin/R CMD build --keep-empty-dirs --no-resave-data weaver StartedAt: 2025-10-03 04:11:50 -0000 (Fri, 03 Oct 2025) EndedAt: 2025-10-03 04:11:55 -0000 (Fri, 03 Oct 2025) EllapsedTime: 5.0 seconds RetCode: 0 Status: OK PackageFile: weaver_1.75.0.tar.gz PackageFileSize: 225.4 KiB