Package: weaver Version: 1.75.0 Command: /home/biocbuild/bbs-3.22-bioc/R/bin/R CMD check --install=check:weaver.install-out.txt --library=/home/biocbuild/bbs-3.22-bioc/R/site-library --timings weaver_1.75.0.tar.gz StartedAt: 2025-10-01 05:29:35 -0400 (Wed, 01 Oct 2025) EndedAt: 2025-10-01 05:29:52 -0400 (Wed, 01 Oct 2025) EllapsedTime: 17.0 seconds RetCode: 0 Status: WARNINGS CheckDir: weaver.Rcheck Warnings: 1