Package: weaver Version: 1.77.0 Command: /home/biocbuild/bbs-3.23-bioc/R/bin/R CMD INSTALL weaver StartedAt: 2025-11-20 15:06:17 -0500 (Thu, 20 Nov 2025) EndedAt: 2025-11-20 15:06:55 -0500 (Thu, 20 Nov 2025) EllapsedTime: 37.8 seconds RetCode: 0 Status: OK