Package: weaver Version: 1.77.0 Command: /home/biocbuild/bbs-3.23-bioc/R/bin/R CMD check --install=check:weaver.install-out.txt --library=/home/biocbuild/bbs-3.23-bioc/R/site-library --timings weaver_1.77.0.tar.gz StartedAt: 2025-11-21 05:15:04 -0500 (Fri, 21 Nov 2025) EndedAt: 2025-11-21 05:15:21 -0500 (Fri, 21 Nov 2025) EllapsedTime: 17.0 seconds RetCode: 0 Status: WARNINGS CheckDir: weaver.Rcheck Warnings: 1