Package: wavClusteR Version: 2.45.0 Command: /home/biocbuild/bbs-3.23-bioc/R/bin/R CMD INSTALL wavClusteR StartedAt: 2025-11-05 15:46:31 -0500 (Wed, 05 Nov 2025) EndedAt: 2025-11-05 15:46:42 -0500 (Wed, 05 Nov 2025) EllapsedTime: 11.6 seconds RetCode: 1 Status: ERROR