Package: wavClusteR Version: 2.45.0 Command: /home/biocbuild/bbs-3.23-bioc/R/bin/R CMD build --keep-empty-dirs --no-resave-data wavClusteR StartedAt: 2025-11-05 20:46:01 -0500 (Wed, 05 Nov 2025) EndedAt: 2025-11-05 20:46:12 -0500 (Wed, 05 Nov 2025) EllapsedTime: 11.0 seconds RetCode: 1 Status: ERROR PackageFile: None PackageFileSize: NA