Package: wavClusteR Version: 2.43.0 Command: /Library/Frameworks/R.framework/Resources/bin/R CMD INSTALL wavClusteR StartedAt: 2025-10-13 15:36:43 -0400 (Mon, 13 Oct 2025) EndedAt: 2025-10-13 15:37:35 -0400 (Mon, 13 Oct 2025) EllapsedTime: 52.4 seconds RetCode: 0 Status: OK