Package: wavClusteR Version: 2.43.0 Command: /Library/Frameworks/R.framework/Resources/bin/R CMD build --keep-empty-dirs --no-resave-data wavClusteR StartedAt: 2025-10-12 19:44:02 -0400 (Sun, 12 Oct 2025) EndedAt: 2025-10-12 19:45:26 -0400 (Sun, 12 Oct 2025) EllapsedTime: 83.5 seconds RetCode: 0 Status: OK PackageFile: wavClusteR_2.43.0.tar.gz PackageFileSize: 789.4 KiB