Package: wavClusteR Version: 2.43.0 Command: rm -rf wavClusteR.buildbin-libdir && mkdir wavClusteR.buildbin-libdir && /Users/biocbuild/BBS/utils/build-universal.sh wavClusteR_2.43.0.tar.gz /Library/Frameworks/R.framework/Resources/bin/R wavClusteR.buildbin-libdir StartedAt: 2025-10-14 03:14:53 -0400 (Tue, 14 Oct 2025) EndedAt: 2025-10-14 03:15:48 -0400 (Tue, 14 Oct 2025) EllapsedTime: 54.6 seconds RetCode: 0 Status: OK PackageFile: wavClusteR_2.43.0.tgz PackageFileSize: 896.2 KiB